BEGIN:VCALENDAR
VERSION:2.0
PRODID:Events Booking
BEGIN:VEVENT
UID:69e4d109e0674
SUMMARY:Mastermind dla Biur Rachunkowych 9:00
DESCRIPTION:Mastermind dla Biur Rachunkowych z Gosią Bazan
LOCATION:Clickmeeting
DTSTART:20260519T070000Z
DTSTAMP:20260317T215833Z
ORGANIZER;CN=Małgorzata Bazan:MAILTO:kontakt@bazan.pro
END:VEVENT
END:VCALENDAR