BEGIN:VCALENDAR
VERSION:2.0
PRODID:Events Booking
BEGIN:VEVENT
UID:69e51c22a84e1
SUMMARY:Mastermind INTRO Hipoteczni
DESCRIPTION:Warsztaty mastermind INTRO
 To wstęp do Warsztatów Mastermin
 d - mała próbka tego\, co oferuje cały cykl Mastermind.&nbsp\;
LOCATION:Clickmeeting
DTSTART:20250515T070000Z
DTEND:20250611T220000Z
DTSTAMP:20250415T201748Z
ORGANIZER;CN=Małgorzata Bazan:MAILTO:kontakt@bazan.pro
END:VEVENT
END:VCALENDAR